BEGIN:VCALENDAR
VERSION:2.0
PRODID:-//DJ R1CCONE - ECPv4.6.10//NONSGML v1.0//EN
CALSCALE:GREGORIAN
METHOD:PUBLISH
X-WR-CALNAME:DJ R1CCONE
X-ORIGINAL-URL:http://dj-r1ccone.de
X-WR-CALDESC:Veranstaltungen für DJ R1CCONE
BEGIN:VEVENT
DTSTART;TZID=UTC+1:20170825T230000
DTEND;TZID=UTC+1:20170825T230000
DTSTAMP:20260421T021406
CREATED:20170807T112235Z
LAST-MODIFIED:20170807T112235Z
UID:548-1503702000-1503702000@dj-r1ccone.de
SUMMARY:Thank God It's Friday @JiNX
DESCRIPTION:THANK GOD IT’S FRIDAY PARTY \n\nMEGA HAPPY HOUR BIS 23 UHR \nBESTE BEATS BY DJ R1CCONE\,COOLE DRINKS \nALL NIGHT LONG?? \nSPECIAL GIFT TONIGHT FROM JACK DANIEL’S?? \nALLAHOP\,DUSCHEN\,CLUBBEN \n\n
URL:http://dj-r1ccone.de/date/thank-god-its-friday-jinx-5/
LOCATION:Untere Straße 20\, Heidelberg\, BW\, 69117\, Deutschland
END:VEVENT
END:VCALENDAR