BEGIN:VCALENDAR
VERSION:2.0
PRODID:-//DJ R1CCONE - ECPv4.6.10//NONSGML v1.0//EN
CALSCALE:GREGORIAN
METHOD:PUBLISH
X-WR-CALNAME:DJ R1CCONE
X-ORIGINAL-URL:http://dj-r1ccone.de
X-WR-CALDESC:Veranstaltungen für DJ R1CCONE
BEGIN:VEVENT
DTSTART;TZID=UTC+1:20170224T230000
DTEND;TZID=UTC+1:20170224T230000
DTSTAMP:20260424T215143
CREATED:20170201T123058Z
LAST-MODIFIED:20170201T123058Z
UID:506-1487977200-1487977200@dj-r1ccone.de
SUMMARY:THANK GOD IT’S FRIDAY @JiNX
DESCRIPTION: \nTHANK GOD IT’S FRIDAY PARTY \nHappy Hour bis 23 Uhr!!! \nClubtunes by DJ R1CCONE \n
URL:http://dj-r1ccone.de/date/thank-god-its-friday-jinx-4/
LOCATION:Untere Straße 20\, Heidelberg\, BW\, 69117\, Deutschland
END:VEVENT
END:VCALENDAR