BEGIN:VCALENDAR
VERSION:2.0
PRODID:-//DJ R1CCONE - ECPv4.6.10//NONSGML v1.0//EN
CALSCALE:GREGORIAN
METHOD:PUBLISH
X-WR-CALNAME:DJ R1CCONE
X-ORIGINAL-URL:http://dj-r1ccone.de
X-WR-CALDESC:Veranstaltungen für DJ R1CCONE
BEGIN:VEVENT
DTSTART;TZID=UTC+1:20170608T220000
DTEND;TZID=UTC+1:20170608T220000
DTSTAMP:20260424T015125
CREATED:20170526T103242Z
LAST-MODIFIED:20170526T103242Z
UID:533-1496959200-1496959200@dj-r1ccone.de
SUMMARY:Sportlerparty - I Love Sport @Halle02
DESCRIPTION: \n  \nI LOVE SPORT – Zumindest für eine Partynacht! \nDie Sportlerparty steht wieder vor der Tür! Traditionell bleiben partytechnisch keine Fragen offen: 2 prallgefüllte Floors\, Konfetti-Kanonen\, Fotobox und ein massiver Ballondrop! \n► DRESSCODE: Sportsachen\, Trikots & Jogginhose – Mädls lasst die Highheels daheim\, bei uns wird getanzt! \n► TICKET VORVERKAUF (6 €)\nAb 1. Juni – Nur solange der Vorrat reicht!\nISSW INF700 // von 11-13 Uhr\nPier 4 Heidelberg nahe Marstall // von 11:30-20 Uhr \n► ABENDKASSE (8 €)\nAb 22:00 Uhr – Kein Wiedereinlass!\nNur begrenztes Kontingent! \n► SPECIALS\nBier / Wein / Sekt – 2€\nBacardi Happyhour bis 23 Uhr \n► MUSIK:\n// MAIN-Floor (Charts\, Hip-Hop\, Oldies)\nR1CCONE mit den besten Partybeatz aus diesem und letztem Jahrzehnt! \n// CLUB-Floor (Progressive House\, Electro)\nFORTUNATE & PATRICE mit ihrem einzigartigen Electro-Sound zum Ausrasten! \nVeranstalter: Förderverein Sportstudenten Heidelberg e.V. \n
URL:http://dj-r1ccone.de/date/sportlerparty-i-love-sport-halle02/
LOCATION:Zollhofgarten 2\, Heidelberg\, 69115\, Deutschland
END:VEVENT
END:VCALENDAR