BEGIN:VCALENDAR
VERSION:2.0
PRODID:-//DJ R1CCONE - ECPv4.6.10//NONSGML v1.0//EN
CALSCALE:GREGORIAN
METHOD:PUBLISH
X-WR-CALNAME:DJ R1CCONE
X-ORIGINAL-URL:http://dj-r1ccone.de
X-WR-CALDESC:Veranstaltungen für DJ R1CCONE
BEGIN:VEVENT
DTSTART;TZID=UTC+1:20170401T230000
DTEND;TZID=UTC+1:20170401T230000
DTSTAMP:20260424T125849
CREATED:20170330T105526Z
LAST-MODIFIED:20170330T105526Z
UID:526-1491087600-1491087600@dj-r1ccone.de
SUMMARY:Saturday Night Party @JINX
DESCRIPTION: \nSATURDAY NIGHT PARTY WITH DJ R1CCONE IN THE MIX!!! \nHAPPY HOUR BIS 23 UHR \nALLE COCKTAILS NUR 4\,70 \nLET’S ROCK TONIGHT \n
URL:http://dj-r1ccone.de/date/saturday-night-party-jinx-33/
LOCATION:Untere Straße 20\, Heidelberg\, BW\, 69117\, Deutschland
END:VEVENT
END:VCALENDAR