BEGIN:VCALENDAR
VERSION:2.0
PRODID:-//DJ R1CCONE - ECPv4.6.10//NONSGML v1.0//EN
CALSCALE:GREGORIAN
METHOD:PUBLISH
X-WR-CALNAME:DJ R1CCONE
X-ORIGINAL-URL:http://dj-r1ccone.de
X-WR-CALDESC:Veranstaltungen für DJ R1CCONE
BEGIN:VEVENT
DTSTART;TZID=UTC+1:20170803T230000
DTEND;TZID=UTC+1:20170803T230000
DTSTAMP:20260423T234331
CREATED:20170725T124935Z
LAST-MODIFIED:20170725T124935Z
UID:537-1501801200-1501801200@dj-r1ccone.de
SUMMARY:RITMO @JINX
DESCRIPTION: \nLADIES & GENTLEMAN\, SO HITZIG WIE SICH DER SOMMER 2017 BISLANG PRÄSENTIERT WIRD ES GARANTIERT WIEDER AUF DER RITMO HD UND WIR LASSEN WIEDER DIE HÜFTEN IM Jinx Bar & ClubSCHWINGEN!!! \nDJ R1CCONE BRINGT DIE HÜTTE WIEDER MIT DEN HEIßESTEN BEATS AUS HIP HOP\, REGGAETON UND DANCEHALL ZUM KOCHEN!!!\nABKÜHLUNG GIBT’S AN DER BAR!!!\nALLE LONGDRINKS NUR 5 EURO\nAlle Shots nur 2 Euro!!!\nFREE ENTRY!!!\nBE PART OF IT!!! \nP.s.: Die Jinx 1 Euro findet weiterhin an den restlichen Donnerstagen im Monat wie gewohnt statt!\n#party #jinx #ritmo #djr1ccone #heidelberg\n#altstadt #feeltheheat #keepondancing \n
URL:http://dj-r1ccone.de/date/ritmo-jinx-3/
LOCATION:Untere Straße 20\, Heidelberg\, BW\, 69117\, Deutschland
END:VEVENT
END:VCALENDAR