BEGIN:VCALENDAR
VERSION:2.0
PRODID:-//DJ R1CCONE - ECPv4.6.10//NONSGML v1.0//EN
CALSCALE:GREGORIAN
METHOD:PUBLISH
X-WR-CALNAME:DJ R1CCONE
X-ORIGINAL-URL:http://dj-r1ccone.de
X-WR-CALDESC:Veranstaltungen für DJ R1CCONE
BEGIN:VEVENT
DTSTART;TZID=UTC+1:20170601T220000
DTEND;TZID=UTC+1:20170601T220000
DTSTAMP:20260424T031336
CREATED:20170526T102918Z
LAST-MODIFIED:20170526T102918Z
UID:531-1496354400-1496354400@dj-r1ccone.de
SUMMARY:RITMO HD @Jinx
DESCRIPTION: \nLADIES & GENTLEMAN\, NACHDEM ES AUF DER LETZTEN RITMO HD SO RICHTIG GEBRANNT HAT LASSEN WIR DIESEN DONNERSTAG WIEDER DIE HÜFTEN IM Jinx Bar & Club SCHWINGEN!!! \nDJ R1CCONE BRINGT DIE HÜTTE MIT DEN HEIßESTEN BEATS ZUM KOCHEN!!!\nABKÜHLUNG GIBT’S AN DER BAR!!!\nALLE LONGDRINKS NUR 5 EURO\nAlle Shots nur 2 Euro!!!\nFREE ENTRY!!!\nBE PART OF IT!!! \nP.s.: Die Jinx 1 Euro findet weiterhin an den restlichen Donnerstagen im Monat wie gewohnt statt!\n#party #jinx #ritmo #djr1ccone #heidelberg\n#altstadt #feeltheheat #keepondancing \n
URL:http://dj-r1ccone.de/date/ritmo-hd-jinx/
LOCATION:Untere Straße 20\, Heidelberg\, BW\, 69117\, Deutschland
END:VEVENT
END:VCALENDAR