BEGIN:VCALENDAR
VERSION:2.0
PRODID:-//DJ R1CCONE - ECPv4.6.10//NONSGML v1.0//EN
CALSCALE:GREGORIAN
METHOD:PUBLISH
X-WR-CALNAME:DJ R1CCONE
X-ORIGINAL-URL:http://dj-r1ccone.de
X-WR-CALDESC:Veranstaltungen für DJ R1CCONE
BEGIN:VEVENT
DTSTART;TZID=UTC+1:20170805T210000
DTEND;TZID=UTC+1:20170805T210000
DTSTAMP:20260423T184935
CREATED:20170725T125051Z
LAST-MODIFIED:20170725T125125Z
UID:539-1501966800-1501966800@dj-r1ccone.de
SUMMARY:Private Event
DESCRIPTION:
URL:http://dj-r1ccone.de/date/private-event/
END:VEVENT
END:VCALENDAR