BEGIN:VCALENDAR
VERSION:2.0
PRODID:-//DJ R1CCONE - ECPv4.6.10//NONSGML v1.0//EN
CALSCALE:GREGORIAN
METHOD:PUBLISH
X-WR-CALNAME:DJ R1CCONE
X-ORIGINAL-URL:http://dj-r1ccone.de
X-WR-CALDESC:Veranstaltungen für DJ R1CCONE
BEGIN:VEVENT
DTSTART;TZID=UTC+1:20170325T230000
DTEND;TZID=UTC+1:20170325T230000
DTSTAMP:20260424T144645
CREATED:20170301T124524Z
LAST-MODIFIED:20170301T124524Z
UID:524-1490482800-1490482800@dj-r1ccone.de
SUMMARY:Dj R1CCONE @ CUBES Mannheim
DESCRIPTION:Best of Mixed Music @Cubes with DJ R1CCONE \n
URL:http://dj-r1ccone.de/date/dj-r1ccone-cubes-mannheim/
END:VEVENT
END:VCALENDAR