BEGIN:VCALENDAR
VERSION:2.0
PRODID:-//DJ R1CCONE - ECPv4.6.10//NONSGML v1.0//EN
CALSCALE:GREGORIAN
METHOD:PUBLISH
X-WR-CALNAME:DJ R1CCONE
X-ORIGINAL-URL:http://dj-r1ccone.de
X-WR-CALDESC:Veranstaltungen für DJ R1CCONE
BEGIN:VEVENT
DTSTART;TZID=UTC+1:20170916T230000
DTEND;TZID=UTC+1:20170916T230000
DTSTAMP:20260420T154710
CREATED:20170913T104015Z
LAST-MODIFIED:20170913T104015Z
UID:550-1505602800-1505602800@dj-r1ccone.de
SUMMARY:CUBES IN THE MIX - Radio Night
DESCRIPTION: \nCUBES IN THE MIX – Radio Night\n►House\, Black\, Charts\, Dance & Urban – Mixed but not random\nMit DJ R1CCONE \nMach dich tanzklar!\nDer Bass drückt\, die Hände sind in der Luft\, das Herz klopft im Beat und die Getränke kühlen die heiße Kehle. DJ R1ccone spielt Deine Lieblingssongs aus dem Radio und es gibt nur ein Gas: Vollgas!!! \nSeit 17 Jahren steht DJ R1ccone für eine stets bewährende Qualität und variiert freshe HipHop Vibes mit elektronischen Tunes besser als kein Anderer. Von House zu HipHop und wieder zurück\, diesen Samstag wird kein Genre ausgelassen und kein Lieblingssong vergessen! \n✘One night VIP!✘\n→ Fastlane Einlass\, private Lounge mit exklusivem Service.\n→ Reservierung und Fragen unter: VIP@cubes-mannheim.de \nDie neuste LED-Lichttechnik – eine exklusive GIN-Bar – die angesagtesten Artists der Szene – der modernste Club der Region – die beste Party der Stadt. Das ist NextLevelNightlife im CUBES Club Mannheim – sei ein Teil unserer Nacht! \nAm SAMSTAG | 16. September 2017\nAb 23:00 Uhr\nIm CUBES Club in O7 18\n! Einlass ab 18 Jahren ! \n
URL:http://dj-r1ccone.de/date/cubes-in-the-mix-radio-night/
END:VEVENT
END:VCALENDAR